BEGIN:VCALENDAR
VERSION:2.0
PRODID:-//jEvents 2.0 for Joomla//EN
CALSCALE:GREGORIAN
METHOD:PUBLISH
BEGIN:VTIMEZONE
TZID:Europe/Zurich
BEGIN:STANDARD
DTSTART:20251026T020000
RDATE:20260329T030000
TZOFFSETFROM:+0200
TZOFFSETTO:+0100
TZNAME:Europe/Zurich CET
END:STANDARD
BEGIN:STANDARD
DTSTART:20261025T020000
RDATE:20270328T030000
TZOFFSETFROM:+0200
TZOFFSETTO:+0100
TZNAME:Europe/Zurich CET
END:STANDARD
BEGIN:STANDARD
DTSTART:20271031T020000
RDATE:20280326T030000
TZOFFSETFROM:+0200
TZOFFSETTO:+0100
TZNAME:Europe/Zurich CET
END:STANDARD
BEGIN:STANDARD
DTSTART:20281029T020000
RDATE:20290325T030000
TZOFFSETFROM:+0200
TZOFFSETTO:+0100
TZNAME:Europe/Zurich CET
END:STANDARD
BEGIN:DAYLIGHT
DTSTART:20250404T073000
RDATE:20251026T020000
TZOFFSETFROM:+0100
TZOFFSETTO:+0200
TZNAME:Europe/Zurich CEST
END:DAYLIGHT
BEGIN:DAYLIGHT
DTSTART:20260329T030000
RDATE:20261025T020000
TZOFFSETFROM:+0100
TZOFFSETTO:+0200
TZNAME:Europe/Zurich CEST
END:DAYLIGHT
BEGIN:DAYLIGHT
DTSTART:20270328T030000
RDATE:20271031T020000
TZOFFSETFROM:+0100
TZOFFSETTO:+0200
TZNAME:Europe/Zurich CEST
END:DAYLIGHT
BEGIN:DAYLIGHT
DTSTART:20280326T030000
RDATE:20281029T020000
TZOFFSETFROM:+0100
TZOFFSETTO:+0200
TZNAME:Europe/Zurich CEST
END:DAYLIGHT
END:VTIMEZONE
BEGIN:VEVENT
UID:757e5d0912a00c5c099a6386428f05e0
CATEGORIES:Gottesdienst
CREATED:20251217T120135
SUMMARY:Ostermorgenfeier 
DESCRIPTION:Ostermorgenfeier mit Liturgie, Friedhof Bözen\nMitwirkende: Pfr. Volker Hou
 ba, Osterteam \nAnschliessend Oster-Zmorgen-Teilete im Kirchgemeindehaus\n
X-ALT-DESC;FMTTYPE=text/html:<p>Ostermorgenfeier mit Liturgie, Friedhof Bözen</p><p>Mitwirkende: Pfr. Vo
 lker Houba, Osterteam </p><p>Anschliessend Oster-Zmorgen-Teilete im Kirchge
 meindehaus</p>
DTSTAMP:20260421T103110
DTSTART;TZID=Europe/Zurich:20260405T073000
DTEND;TZID=Europe/Zurich:20260405T081500
SEQUENCE:0
TRANSP:OPAQUE
END:VEVENT
END:VCALENDAR