BEGIN:VCALENDAR
VERSION:2.0
PRODID:-//jEvents 2.0 for Joomla//EN
CALSCALE:GREGORIAN
METHOD:PUBLISH
BEGIN:VTIMEZONE
TZID:Europe/Zurich
BEGIN:STANDARD
DTSTART:20251026T020000
RDATE:20260329T030000
TZOFFSETFROM:+0200
TZOFFSETTO:+0100
TZNAME:Europe/Zurich CET
END:STANDARD
BEGIN:STANDARD
DTSTART:20261025T020000
RDATE:20270328T030000
TZOFFSETFROM:+0200
TZOFFSETTO:+0100
TZNAME:Europe/Zurich CET
END:STANDARD
BEGIN:STANDARD
DTSTART:20271031T020000
RDATE:20280326T030000
TZOFFSETFROM:+0200
TZOFFSETTO:+0100
TZNAME:Europe/Zurich CET
END:STANDARD
BEGIN:STANDARD
DTSTART:20281029T020000
RDATE:20290325T030000
TZOFFSETFROM:+0200
TZOFFSETTO:+0100
TZNAME:Europe/Zurich CET
END:STANDARD
BEGIN:DAYLIGHT
DTSTART:20250523T100000
RDATE:20251026T020000
TZOFFSETFROM:+0100
TZOFFSETTO:+0200
TZNAME:Europe/Zurich CEST
END:DAYLIGHT
BEGIN:DAYLIGHT
DTSTART:20260329T030000
RDATE:20261025T020000
TZOFFSETFROM:+0100
TZOFFSETTO:+0200
TZNAME:Europe/Zurich CEST
END:DAYLIGHT
BEGIN:DAYLIGHT
DTSTART:20270328T030000
RDATE:20271031T020000
TZOFFSETFROM:+0100
TZOFFSETTO:+0200
TZNAME:Europe/Zurich CEST
END:DAYLIGHT
BEGIN:DAYLIGHT
DTSTART:20280326T030000
RDATE:20281029T020000
TZOFFSETFROM:+0100
TZOFFSETTO:+0200
TZNAME:Europe/Zurich CEST
END:DAYLIGHT
END:VTIMEZONE
BEGIN:VEVENT
UID:4d5b09c195d0374f886c2b393b9e3c00
CATEGORIES:Gottesdienst
CREATED:20260118T153535
SUMMARY:Pfingstgottesdienst mit Schülerinnen und Schülern
DESCRIPTION:Pfingstgottesdienst zum Thema "Abendmahl" mit Schülerinnen und Schülern der
  3. und 4. Klasse, Eva Büchli, Katechetin und PFr. Volker Houba\nAnschliess
 end Brunch-Teilete (jedes bringt etwas mit) und anschliessendem Spiel und S
 pass rund ums KGH.
X-ALT-DESC;FMTTYPE=text/html:Pfingstgottesdienst zum Thema "Abendmahl" mit Schülerinnen und Schülern der
  3. und 4. Klasse, Eva Büchli, Katechetin und PFr. Volker Houba<br />Anschl
 iessend Brunch-Teilete (jedes bringt etwas mit) und anschliessendem Spiel u
 nd Spass rund ums KGH.
DTSTAMP:20260421T101013
DTSTART;TZID=Europe/Zurich:20260524T100000
DTEND;TZID=Europe/Zurich:20260524T150000
SEQUENCE:0
TRANSP:OPAQUE
END:VEVENT
END:VCALENDAR