BEGIN:VCALENDAR
VERSION:2.0
PRODID:-//jEvents 2.0 for Joomla//EN
CALSCALE:GREGORIAN
METHOD:PUBLISH
BEGIN:VTIMEZONE
TZID:Europe/Zurich
BEGIN:STANDARD
DTSTART:20231029T020000
RDATE:20240331T030000
TZOFFSETFROM:+0200
TZOFFSETTO:+0100
TZNAME:Europe/Zurich CET
END:STANDARD
BEGIN:STANDARD
DTSTART:20241027T020000
RDATE:20250330T030000
TZOFFSETFROM:+0200
TZOFFSETTO:+0100
TZNAME:Europe/Zurich CET
END:STANDARD
BEGIN:STANDARD
DTSTART:20251026T020000
RDATE:20260329T030000
TZOFFSETFROM:+0200
TZOFFSETTO:+0100
TZNAME:Europe/Zurich CET
END:STANDARD
BEGIN:STANDARD
DTSTART:20261025T020000
RDATE:20270328T030000
TZOFFSETFROM:+0200
TZOFFSETTO:+0100
TZNAME:Europe/Zurich CET
END:STANDARD
BEGIN:STANDARD
DTSTART:20271031T020000
RDATE:20280326T030000
TZOFFSETFROM:+0200
TZOFFSETTO:+0100
TZNAME:Europe/Zurich CET
END:STANDARD
BEGIN:STANDARD
DTSTART:20281029T020000
RDATE:20290325T030000
TZOFFSETFROM:+0200
TZOFFSETTO:+0100
TZNAME:Europe/Zurich CET
END:STANDARD
BEGIN:DAYLIGHT
DTSTART:20231016T140000
RDATE:20231029T020000
TZOFFSETFROM:+0100
TZOFFSETTO:+0200
TZNAME:Europe/Zurich CEST
END:DAYLIGHT
BEGIN:DAYLIGHT
DTSTART:20240331T030000
RDATE:20241027T020000
TZOFFSETFROM:+0100
TZOFFSETTO:+0200
TZNAME:Europe/Zurich CEST
END:DAYLIGHT
BEGIN:DAYLIGHT
DTSTART:20250330T030000
RDATE:20251026T020000
TZOFFSETFROM:+0100
TZOFFSETTO:+0200
TZNAME:Europe/Zurich CEST
END:DAYLIGHT
BEGIN:DAYLIGHT
DTSTART:20260329T030000
RDATE:20261025T020000
TZOFFSETFROM:+0100
TZOFFSETTO:+0200
TZNAME:Europe/Zurich CEST
END:DAYLIGHT
BEGIN:DAYLIGHT
DTSTART:20270328T030000
RDATE:20271031T020000
TZOFFSETFROM:+0100
TZOFFSETTO:+0200
TZNAME:Europe/Zurich CEST
END:DAYLIGHT
BEGIN:DAYLIGHT
DTSTART:20280326T030000
RDATE:20281029T020000
TZOFFSETFROM:+0100
TZOFFSETTO:+0200
TZNAME:Europe/Zurich CEST
END:DAYLIGHT
END:VTIMEZONE
BEGIN:VEVENT
UID:c418954be54b7affe5f7186a4abdf0c0
CATEGORIES:So Sch alle
CREATED:20240101T184520
SUMMARY:Kinder in der Kirche
DESCRIPTION:Vorbereitung für Erntedankgottesdienst!\nEs sind alle Kinder eingeladen, au
 ch wenn man sonst nicht in die Sonntagsschule geht, an diesem Vorbereitungs
 nachmittag dabei zu sein. Wir basteln, hören eine Geschichte, singen und be
 reiten den Gottesdienst vom Sonntag miteinander vor!\nAuskunft erteilt gern
 e: Eva Büchli, Telefon 062 876 12 36\n
X-ALT-DESC;FMTTYPE=text/html:<p>Vorbereitung für Erntedankgottesdienst!<br />Es sind alle Kinder eingela
 den, auch wenn man sonst nicht in die Sonntagsschule geht, an diesem Vorber
 eitungsnachmittag dabei zu sein. Wir basteln, hören eine Geschichte, singen
  und bereiten den Gottesdienst vom Sonntag miteinander vor!<br />Auskunft e
 rteilt gerne: Eva Büchli, Telefon 062 876 12 36</p>
DTSTAMP:20260422T092930
DTSTART;TZID=Europe/Zurich:20241016T140000
DTEND;TZID=Europe/Zurich:20241016T163000
SEQUENCE:0
TRANSP:OPAQUE
END:VEVENT
END:VCALENDAR